BEGIN:VCALENDAR
VERSION:2.0
PRODID:-//EUIMWP Cost Project - ECPv6.4.0.1//NONSGML v1.0//EN
CALSCALE:GREGORIAN
METHOD:PUBLISH
X-WR-CALNAME:EUIMWP Cost Project
X-ORIGINAL-URL:https://euimwp.eu
X-WR-CALDESC:Events for EUIMWP Cost Project
REFRESH-INTERVAL;VALUE=DURATION:PT1H
X-Robots-Tag:noindex
X-PUBLISHED-TTL:PT1H
BEGIN:VTIMEZONE
TZID:UTC
BEGIN:STANDARD
TZOFFSETFROM:+0000
TZOFFSETTO:+0000
TZNAME:UTC
DTSTART:20180101T000000
END:STANDARD
END:VTIMEZONE
BEGIN:VEVENT
DTSTART;TZID=UTC:20180529T150000
DTEND;TZID=UTC:20180529T190000
DTSTAMP:20260424T211946
CREATED:20180413T163046Z
LAST-MODIFIED:20180413T163226Z
UID:454-1527606000-1527620400@euimwp.eu
SUMMARY:2nd Core Group meeting: Valencia (Spain)
DESCRIPTION:The Core Group will meet in Valencia (Spain)\, the evening before the European Conference on Integrated Optics (http://www.ecio-2018.org/) begins.
URL:https://euimwp.eu/event/2nd-core-group-meeting-valencia-spain/
LOCATION:Universidad Politécnica de Valencia – Ciudad Politécnica de la Innovación\, CPI UPV\, Camino de Vera s/n\, Valencia\, Valencia\, 46022\, Spain
CATEGORIES:Meetings
END:VEVENT
END:VCALENDAR