BEGIN:VCALENDAR
VERSION:2.0
PRODID:-//EUIMWP Cost Project - ECPv6.4.0.1//NONSGML v1.0//EN
CALSCALE:GREGORIAN
METHOD:PUBLISH
X-ORIGINAL-URL:https://euimwp.eu
X-WR-CALDESC:Events for EUIMWP Cost Project
REFRESH-INTERVAL;VALUE=DURATION:PT1H
X-Robots-Tag:noindex
X-PUBLISHED-TTL:PT1H
BEGIN:VTIMEZONE
TZID:UTC
BEGIN:STANDARD
TZOFFSETFROM:+0000
TZOFFSETTO:+0000
TZNAME:UTC
DTSTART:20200101T000000
END:STANDARD
END:VTIMEZONE
BEGIN:VEVENT
DTSTART;VALUE=DATE:20200120
DTEND;VALUE=DATE:20200125
DTSTAMP:20260425T130032
CREATED:20190525T084212Z
LAST-MODIFIED:20190623T110759Z
UID:1400-1579478400-1579910399@euimwp.eu
SUMMARY:1st MOOC recording meeting
DESCRIPTION:Paris (France) \n 
URL:https://euimwp.eu/event/1st-mooc-recording-meeting/
CATEGORIES:Meetings
END:VEVENT
BEGIN:VEVENT
DTSTART;VALUE=DATE:20200203
DTEND;VALUE=DATE:20200206
DTSTAMP:20260425T130032
CREATED:20190525T084327Z
LAST-MODIFIED:20200121T100255Z
UID:1404-1580688000-1580947199@euimwp.eu
SUMMARY:Photonic Integration for Aerospace\, Satellite & Radar Technology
DESCRIPTION:Dear EUIMWP participants\, \nOn behalf of the MC of the EUIMWP (CA 16220) COST Action\, we are pleased to announce a Training School on “Photonic Integration for Aerospace\, Satellite & Radar Technology”\, to be held in Paris\, 3rd to 5th of February 2020.\nOrganized by Le Conservatoire National des Arts et Métiers (Le Cnam) and Thales Research and Technology (TRT) within the framework of the EUIMWP Cost Action (European Integrated Microwave Photonics)\, this training school covers the application of integrated photonics for aerospace\, satellite & radar technology.\n\n1 – Space\n• Free space optical communications\n• Spatial environment\, Cost-effective and low-SWaP telecommunications satellite payloads\n• A MWP-based Space Instrument\n• Highly flexible and reconfigurable photonically-enabled satellite payloads\n\n2 – Radar\n• Compact high-frequency beam-steered systems based on IMWP technologies\, radar systems of wider spectral bandwidth (>40 GHz)\, lower timing jitter (<15 fs)\, and real time signal processing based on photonically-enabled radar implementation through IMWP technologies.\n• Integrated Microwave Photonic Filters\n\nThe training school will be hosted at the facilities of CNAM in central Paris (for two days: 3-4 Feb.) and at TRT (for one day: 5 Feb.). The training school will include talks from experts based in industry and academia and is mainly intended for Ph.D. students and early career investigators. Two visits to industrial laboratories will be organized.\n\nRegistration\nPlease fill in the application form (attached) and send it to:\n\nanne-laure.billabert@lecnam.net\n\n\nDeadline: December 15th\, 2019\n\nLocation:\n\n3-4 February:\nLe Cnam\, Salon d’honneur\,\n292\, rue saint Martin\, 75003 Paris \n5 february:\nThales Research & Technology\nRoute départementale\, 91120 Palaiseau \nOrganizing committee\nDr. Anne-Laure Billabert (anne-laure.billabert@lecnam.net)\nDr. Daniel Dolfi (daniel.dolfi@thalesgroup.com)\nProf. Stavros Iezekiel (iezekiel@ucy.ac.cy) \nGrants for attending the Training School:\nThe EUIMWP (CA 16220) COST Action will offer a fixed grant (amount still to be confirmed) to trainees coming from COST countries and Near Neighbour Countries (please check the eligibility conditions in the COST Vademecum\, downloadable from the right menu of the COST website (https://www.cost.eu/funding/how-to-get-funding/documents-and-guidelines/). These grants are a contribution to travel\, accommodation and meals expenses of trainees during their attendance at the course\, but they will not necessarily cover all expenses. The grants will be given on a first come\, first served basis\, after checking that the eligibility criteria are met. The Grant Holder reserves the right to modify the number of grants according to budget availability. The grants will always be paid a posteriori\, after checking that the grantee has attended the entire event and signed the attendance list every day. \nHow to apply for a grant from the EUIMWP COST Action?\nPlease send an email to Pepa Bayarri\, the Grant Holder Manager of the EUIMWP COST Action (ghmanager.upv@gmail.com) expressing your interest in obtaining a grant\, with the following documents attached: \n• Document of your acceptance for the training school\, signed by the organisers (a copy of their acceptation email will suffice).\n\n• Any kind of proof to show your affiliation to your institution (a letter signed by your supervisor\, a copy of your contract/scholarship\, etc.).Should you have any question regarding the COST grants\, please contact Pepa Bayarri. \nJosé Capmany (Chair and Grant Holder)\nAnne-Laure Billabert (Local Organiser)\nPepa Bayarri (Grant Holder Manager)\, email: ghmanager.upv@gmail.com\n\n\n\nDownloadable files:\nApplication Training school France Feb 2020\nAnnouncement Training School France Feb 2020\nAccomodation TS completed\nAgenda Training School France Feb 2020
URL:https://euimwp.eu/event/photonic-integration-for-aerospace-satellite-radar-technology/
CATEGORIES:Training Schools
END:VEVENT
BEGIN:VEVENT
DTSTART;TZID=UTC:20210908T150000
DTEND;TZID=UTC:20210908T173000
DTSTAMP:20260425T130032
CREATED:20210823T064143Z
LAST-MODIFIED:20210909T115500Z
UID:9394-1631113200-1631122200@euimwp.eu
SUMMARY:"PICs for Quantum"\, Sep 8th\, 2021\, Online (Zoom).
DESCRIPTION:Dear EUIMWP participants\, \nOn behalf of the MC of the EUIMWP (CA 16220) COST Action\, we are pleased to announce the Training School entitled “PICs for Quantum”\, to be held online on the 8th of September 2021\, 15:00h (CEST). \nOrganized by LIGENTEC (Lausanne\, Switzerland) within the framework of the EUIMWP Cost Action (European Network for High Performance Integrated Microwave Photonics)\, this 2-hour webinar will give the participants a general understanding of quantum photonic in PICs and related concepts. \nParticipation is recommended to nanotechnology and optics enthusiasts R&D and product engineers\, M.Sc./Ph.D candidates\, postdocs & students. \nREGISTER NOW TO ATTEND FOR FREE! \nAttendance at the Training School is free of charge but requires registration.\nPlease follow this link to register: \nhttps://us06web.zoom.us/webinar/register/WN_VCYw706NSTmY-Tnm5Fkz1w \n*By registering you agree with the GDPR\, meaning that your information will be used for follow-up & marketing purposes. You will always be able to opt-out. \nLocal Organising committee \nProf. Michael Geiselmann\, michael.geiselmann@ligentec.com\nProf. Michael Zervas\, michael.zervas@ligentec.com\nMs. Belén López-Fuchet\, bel@ligentec.com \nPRELIMINARY AGENDA\nPICs for Quantum\n8th of September 2021\nOnline (Zoom) \n15:00 – 15:10 Intro\n15:10 – 15:40 – Speaker 1: QUSIDE – Domenico Tulli “Integrated\, high-speed quantum random number generator based on phase diffusion”\n15:40 – 16:10 – Speaker 2: XANADU – Zach Vernon “Fault-tolerant photonic quantum computing”\n16:10 – 16:40 – Speaker 3: ESA – Eamonn Murphy “Integrated photonics; a viable technology platform for quantum sensors on ground and in space”\n16:40 – 17:30 – After-webinar discussion between speakers \nDownload PDF > \n 
URL:https://euimwp.eu/event/pics-for-quantum-sep-8th-2021-online-zoom/
CATEGORIES:Training Schools
ORGANIZER;CN="Ligentec":MAILTO:info@ligentec.com
END:VEVENT
BEGIN:VEVENT
DTSTART;VALUE=DATE:20210921
DTEND;VALUE=DATE:20210922
DTSTAMP:20260425T130032
CREATED:20210907T181113Z
LAST-MODIFIED:20210907T181113Z
UID:9566-1632182400-1632268799@euimwp.eu
SUMMARY:3rd PhD and ECI meeting\, Sep 21st\, 2021\, Online
DESCRIPTION:The last PhD and ECI meeting of the EUIMWP COST Action is planned to take place on September 21st\, 2021. It will have to be virtual\, unfortunately\, since due to the COVID situation organising an in-person meeting would be too risky. \nSimilarly to what has been done in the past meetings\, participants are invited to very briefly present the topic of their research and then have a round table session to facilitate knowledge exchange and future collaboration options. \nAs a reminder\, according to the COST Vademecum\, ECI is an individual who is within a time span of up to 8 years from the date they obtained their PhD/doctorate (full-time equivalent). \nThe agenda will be published briefly.
URL:https://euimwp.eu/event/3rd-phd-and-eci-meeting-sep-21st-2021-online/
CATEGORIES:Meetings
END:VEVENT
END:VCALENDAR