BEGIN:VCALENDAR
VERSION:2.0
PRODID:-//EUIMWP Cost Project - ECPv6.4.0.1//NONSGML v1.0//EN
CALSCALE:GREGORIAN
METHOD:PUBLISH
X-WR-CALNAME:EUIMWP Cost Project
X-ORIGINAL-URL:https://euimwp.eu
X-WR-CALDESC:Events for EUIMWP Cost Project
REFRESH-INTERVAL;VALUE=DURATION:PT1H
X-Robots-Tag:noindex
X-PUBLISHED-TTL:PT1H
BEGIN:VTIMEZONE
TZID:UTC
BEGIN:STANDARD
TZOFFSETFROM:+0000
TZOFFSETTO:+0000
TZNAME:UTC
DTSTART:20180101T000000
END:STANDARD
END:VTIMEZONE
BEGIN:VEVENT
DTSTART;TZID=UTC:20210908T150000
DTEND;TZID=UTC:20210908T173000
DTSTAMP:20260421T043152
CREATED:20210823T064143Z
LAST-MODIFIED:20210909T115500Z
UID:9394-1631113200-1631122200@euimwp.eu
SUMMARY:"PICs for Quantum"\, Sep 8th\, 2021\, Online (Zoom).
DESCRIPTION:Dear EUIMWP participants\, \nOn behalf of the MC of the EUIMWP (CA 16220) COST Action\, we are pleased to announce the Training School entitled “PICs for Quantum”\, to be held online on the 8th of September 2021\, 15:00h (CEST). \nOrganized by LIGENTEC (Lausanne\, Switzerland) within the framework of the EUIMWP Cost Action (European Network for High Performance Integrated Microwave Photonics)\, this 2-hour webinar will give the participants a general understanding of quantum photonic in PICs and related concepts. \nParticipation is recommended to nanotechnology and optics enthusiasts R&D and product engineers\, M.Sc./Ph.D candidates\, postdocs & students. \nREGISTER NOW TO ATTEND FOR FREE! \nAttendance at the Training School is free of charge but requires registration.\nPlease follow this link to register: \nhttps://us06web.zoom.us/webinar/register/WN_VCYw706NSTmY-Tnm5Fkz1w \n*By registering you agree with the GDPR\, meaning that your information will be used for follow-up & marketing purposes. You will always be able to opt-out. \nLocal Organising committee \nProf. Michael Geiselmann\, michael.geiselmann@ligentec.com\nProf. Michael Zervas\, michael.zervas@ligentec.com\nMs. Belén López-Fuchet\, bel@ligentec.com \nPRELIMINARY AGENDA\nPICs for Quantum\n8th of September 2021\nOnline (Zoom) \n15:00 – 15:10 Intro\n15:10 – 15:40 – Speaker 1: QUSIDE – Domenico Tulli “Integrated\, high-speed quantum random number generator based on phase diffusion”\n15:40 – 16:10 – Speaker 2: XANADU – Zach Vernon “Fault-tolerant photonic quantum computing”\n16:10 – 16:40 – Speaker 3: ESA – Eamonn Murphy “Integrated photonics; a viable technology platform for quantum sensors on ground and in space”\n16:40 – 17:30 – After-webinar discussion between speakers \nDownload PDF > \n 
URL:https://euimwp.eu/event/pics-for-quantum-sep-8th-2021-online-zoom/
CATEGORIES:Training Schools
ORGANIZER;CN="Ligentec":MAILTO:info@ligentec.com
END:VEVENT
BEGIN:VEVENT
DTSTART;VALUE=DATE:20200203
DTEND;VALUE=DATE:20200206
DTSTAMP:20260421T043152
CREATED:20190525T084327Z
LAST-MODIFIED:20200121T100255Z
UID:1404-1580688000-1580947199@euimwp.eu
SUMMARY:Photonic Integration for Aerospace\, Satellite & Radar Technology
DESCRIPTION:Dear EUIMWP participants\, \nOn behalf of the MC of the EUIMWP (CA 16220) COST Action\, we are pleased to announce a Training School on “Photonic Integration for Aerospace\, Satellite & Radar Technology”\, to be held in Paris\, 3rd to 5th of February 2020.\nOrganized by Le Conservatoire National des Arts et Métiers (Le Cnam) and Thales Research and Technology (TRT) within the framework of the EUIMWP Cost Action (European Integrated Microwave Photonics)\, this training school covers the application of integrated photonics for aerospace\, satellite & radar technology.\n\n1 – Space\n• Free space optical communications\n• Spatial environment\, Cost-effective and low-SWaP telecommunications satellite payloads\n• A MWP-based Space Instrument\n• Highly flexible and reconfigurable photonically-enabled satellite payloads\n\n2 – Radar\n• Compact high-frequency beam-steered systems based on IMWP technologies\, radar systems of wider spectral bandwidth (>40 GHz)\, lower timing jitter (<15 fs)\, and real time signal processing based on photonically-enabled radar implementation through IMWP technologies.\n• Integrated Microwave Photonic Filters\n\nThe training school will be hosted at the facilities of CNAM in central Paris (for two days: 3-4 Feb.) and at TRT (for one day: 5 Feb.). The training school will include talks from experts based in industry and academia and is mainly intended for Ph.D. students and early career investigators. Two visits to industrial laboratories will be organized.\n\nRegistration\nPlease fill in the application form (attached) and send it to:\n\nanne-laure.billabert@lecnam.net\n\n\nDeadline: December 15th\, 2019\n\nLocation:\n\n3-4 February:\nLe Cnam\, Salon d’honneur\,\n292\, rue saint Martin\, 75003 Paris \n5 february:\nThales Research & Technology\nRoute départementale\, 91120 Palaiseau \nOrganizing committee\nDr. Anne-Laure Billabert (anne-laure.billabert@lecnam.net)\nDr. Daniel Dolfi (daniel.dolfi@thalesgroup.com)\nProf. Stavros Iezekiel (iezekiel@ucy.ac.cy) \nGrants for attending the Training School:\nThe EUIMWP (CA 16220) COST Action will offer a fixed grant (amount still to be confirmed) to trainees coming from COST countries and Near Neighbour Countries (please check the eligibility conditions in the COST Vademecum\, downloadable from the right menu of the COST website (https://www.cost.eu/funding/how-to-get-funding/documents-and-guidelines/). These grants are a contribution to travel\, accommodation and meals expenses of trainees during their attendance at the course\, but they will not necessarily cover all expenses. The grants will be given on a first come\, first served basis\, after checking that the eligibility criteria are met. The Grant Holder reserves the right to modify the number of grants according to budget availability. The grants will always be paid a posteriori\, after checking that the grantee has attended the entire event and signed the attendance list every day. \nHow to apply for a grant from the EUIMWP COST Action?\nPlease send an email to Pepa Bayarri\, the Grant Holder Manager of the EUIMWP COST Action (ghmanager.upv@gmail.com) expressing your interest in obtaining a grant\, with the following documents attached: \n• Document of your acceptance for the training school\, signed by the organisers (a copy of their acceptation email will suffice).\n\n• Any kind of proof to show your affiliation to your institution (a letter signed by your supervisor\, a copy of your contract/scholarship\, etc.).Should you have any question regarding the COST grants\, please contact Pepa Bayarri. \nJosé Capmany (Chair and Grant Holder)\nAnne-Laure Billabert (Local Organiser)\nPepa Bayarri (Grant Holder Manager)\, email: ghmanager.upv@gmail.com\n\n\n\nDownloadable files:\nApplication Training school France Feb 2020\nAnnouncement Training School France Feb 2020\nAccomodation TS completed\nAgenda Training School France Feb 2020
URL:https://euimwp.eu/event/photonic-integration-for-aerospace-satellite-radar-technology/
CATEGORIES:Training Schools
END:VEVENT
BEGIN:VEVENT
DTSTART;VALUE=DATE:20190910
DTEND;VALUE=DATE:20190914
DTSTAMP:20260421T043152
CREATED:20190525T084250Z
LAST-MODIFIED:20190716T062631Z
UID:1402-1568073600-1568419199@euimwp.eu
SUMMARY:Emerging technologies for 5G networks
DESCRIPTION:Dear EUIMWP participants\, \nOn behalf of the MC of the EUIMWP (CA 16220) COST Action\, we are pleased to announce the Training School entitled “Emerging technologies for 5G networks”. It will take place in Thessaloniki (Greece)\, from 10th to 13th of September 2019. \nFuture 5G networks will give rise to a wide range of new services\, including enhanced Mobile Broadband (eMBB) applications\, Machine-to-Machine (M2M) communication and Internet of Things (IoT)\, addressing the needs of multiple vertical markets. The large variety of demanding applications and use case scenarios have been setting highly demanding end-user requirements\, such as low latency\, high traffic capacity\, spectral efficiency\, low energy consumption for the end-to-end communication\, placing tremendous load on the underlying infrastructure of the fronthaul network. On the verge of the 5G era\, Fiber Wireless technologies and Integrated Photonics will play a pivotal role in supporting the service and network requirements\, while the emerging converged Fiber Wireless network architectures relying on PONs and Optical Transport Networks will certainly require enhanced Medium Access Control schemes and more efficient resource allocation mechanisms\, stimulating intense Research & Development efforts in this direction. \nOrganized by the Aristotle University of Thessaloniki (AUTH) within the frames of the EUIMWP Cost Action and the 5G-PHOS 5G-PPP Phase II IA\, the European Training aims to cover all topics of Emerging Technologies for 5G\, with the main focus being on \n\nPassive optical networks: architectures\, Media Access Control and Resource Allocation techniques.\nFiber-wireless (FiWi) access networks: Challenges and opportunities\n\nThe training will be hosted at the facilities of the Center for Interdisciplinary Research and Innovation (C.I.R.I.\, http://kedek.auth.gr/ ) of the Aristotle University of Thessaloniki\, which hosts the laboratory facilities of the Wireless and Photonic Systems and Networks research group (WinPhos\, http://winphos.web.auth.gr/ ) and its 5G testbed infrastructure. The training will include talks from both Industry and Academia and is mainly intended for Ph.D. students and Early Carrier Investigators. \nRegistration\nAttendance to the Training School is free of charge\, without any fee included\, but requires registration. Registration can be done online in the following link: http://www.5g-phos.eu/index.php/add-sch-reg \nThe organizing committee: \nDr. Chris Vagionas (chvagion@csd.auth.gr)\nDr. George Kalfas (gkalfas@csd.auth.gr)\nProf. Amalia Miliou (amiliou@csd.auth.gr) \nGrants for attending the Training School\nThe EUIMWP (CA 16220) COST Action will offer a fixed grant (amount still to be confirmed) to trainees coming from COST countries and Near Neighbour Countries (please check the eligibility conditions in the COST Vademecum\, downloadable from the right menu of the COST website (https://www.cost.eu/cost-actions/cost-actions-networking-tools/). These grants are a contribution to travel\, accommodation and meals expenses of trainees during their attendance to the course\, but they will not necessarily cover the totality of the expenses. The grants will be given in a first come\, first served basis\, after checking that the eligibility criteria are met. The Grant Holder reserves the right to modify the number of grants according to budget availability. The grants will always be paid a posteriori\, after checking that the grantee has attended the entire event and signed the attendance list every day. \nHow to apply for a grant by the EUIMWP COST Action?\nPlease send an email to Pepa Bayarri\, the Grant Holder Manager of the EUIMWP COST Action (ghmanager.upv@gmail.com) expressing your interest in getting a grant\, with the following documents attached: \n\nDocument of your acceptance in the training school\, signed by the organisers (a copy of their acceptation email will do).\nAny kind of proof to show your affiliation to your institution (a letter signed by your supervisor\, a copy of your contract/scholarship\, etc.).\n\nShould you have any question regarding the COST grants\, please contact Pepa Bayarri. \nJosé Capmany (Chair and Grant Holder)\nChris Vagionas (Local Organiser)\nPepa Bayarri (Grant Holder Manager)\, email: ghmanager.upv@gmail.com \nDownloadable announcement and agenda file:\nAnnouncement Training School Emerging Technologies in 5G
URL:https://euimwp.eu/event/emerging-technologies-for-5g-networks/
CATEGORIES:Training Schools
END:VEVENT
BEGIN:VEVENT
DTSTART;VALUE=DATE:20190126
DTEND;VALUE=DATE:20190202
DTSTAMP:20260421T043152
CREATED:20180413T162909Z
LAST-MODIFIED:20190111T163842Z
UID:452-1548460800-1549065599@euimwp.eu
SUMMARY:Integrated Microwave Photonics: Enschede (the Netherlands)
DESCRIPTION:Dear EUIMWP participants\, \nOn behalf of the MC of the EUIMWP (European Network for High Performance Integrated Microwave Photonics\, CA 16220) COST Action\, we are pleased to announce the Training School entitled “Integrated Microwave photonics: from idea to chips”. It will take place in Enschede (the Netherlands)\, from 26th of February to 1st of March\, 2019\, and will be organized by LioniX International. \nThe training is based on the recently developed hybrid integrated microwave photonics chip platform developed by LioniX International\, which combines the low-loss silicon nitride (TriPleX) waveguide technology with indium phosphide (InP) chip-based active components\, such as gain diodes\, modulators\, and detectors in order to have a compact and robust multi-chip module. The combination of active InP and low loss TripleX allows the implementation of several functionalities on-chip\, e.g. filtering\, beamforming\, taking advantage of the strength of each material. This is the first fully hybrid integrated microwave photonics module that provides full RF-to-RF functionality. \nThe program is as follows:\nDay 1: Introduction to microwave photonics & performance analysis of a microwave photonic link\nDay 2: Functional design of a microwave photonic filter and beamformer\, and their performance simulations\nDay 3: From functional design to chip design\, fabrication\, assembly & characterization\nDay 4: TriPleX Multi Project Wafer (MPW) run training.  \nFor more info see: www.lionix-international.com/mpw/ \nFor registration\, please contact Chris Roeloffzen (c.g.h.roeloffzen@lionix-int.com). \nGrants for attending the Training School\nThe EUIMWP (CA 16220) COST Action will offer a fixed grant (amount still to be confirmed) to trainees coming from COST countries and Near Neighbour Countries (please check the eligibility conditions in the COST Vademecum\, downloadable from the right menu of the COST website (https://www.cost.eu/cost-actions/cost-actions-networking-tools/)). These grants are a contribution to travel\, accommodation and meals expenses of trainees during their attendance to the course\, but they will not necessarily cover the totality of the expenses\, and in any case will cover the registration fee. \nThe grants will be given in a first come\, first served basis\, after checking that the eligibility criteria are met. \nThe Grant Holder reserves the right to modify the number of grants according to budget availability. \nHow to apply for a grant by the EUIMWP COST Action?\nPlease send an email to Pepa Bayarri\, the Grant Holder Manager of the EUIMWP COST Action (ghmanager.upv@gmail.com) expressing your interest in getting a grant\, with the following documents attached: \n• Document of your acceptation in the training\, signed by the organisers.\n• Any kind of proof to show your affiliation to your institution (a letter signed by your supervisor\, a copy of your contract/scholarship\, etc.). \nShould you have any question regarding the COST grants\, please contact Pepa Bayarri. \nThank you and kind regards\, \nJosé Capmany (Chair and Grant Holder)\nChris Roeloffzen (Local Organiser)\nPepa Bayarri (Grant Holder Manager)
URL:https://euimwp.eu/event/integrated-microwave-photonics-enschede-the-netherlands/
LOCATION:Enschede (the Netherlands)\, Enschede\, Netherlands
CATEGORIES:Training Schools
ATTACH;FMTTYPE=image/jpeg:https://euimwp.eu/wp-content/uploads/2018/04/experiencia-erasmus-enschede-paises-bajos-angeles-8c5dac17c966ea29ee9825841c076a18.jpg
END:VEVENT
BEGIN:VEVENT
DTSTART;VALUE=DATE:20180611
DTEND;VALUE=DATE:20180616
DTSTAMP:20260421T043152
CREATED:20180404T110255Z
LAST-MODIFIED:20180404T155253Z
UID:436-1528675200-1529107199@euimwp.eu
SUMMARY:2nd EUIMWP COST Action Training School
DESCRIPTION:3rd ePIXfab Silicon Photonics Summer School \nDownload PDF Poster \n\nOn behalf of the Chair of the EUIMWP (European Network for High Performance Integrated Microwave Photonics\, CA 16220) COST Action\, we are pleased to announce the Training School entitled “Silicon Photonics Summer School”. It will take place in Ghent (Belgium)\, from 11th to 15th of June\, 2018\, and will be organised by ePIXfab and Ghent University. \nThe Silicon Photonics Summer School is designed to equally benefit the beginners and experts in the field of silicon photonics. It will expose the participants to the fundamental concepts of silicon photonics. Also\, it will provide the participants with a unique opportunity to get a strong insight into the latest developments in the field\, and give insight in the many application fields where silicon photonic is\, or will be\, making an impact. Renowned speakers in the field of silicon photonics will showcase hot topics and latest research results for various applications of silicon photonics. The summer school has two poster sessions. The goal of the poster session is to provide the participants with an opportunity to interact with world-renowned experts of silicon photonics to discuss their ideas and potential challenges. \nPlease find the flyer attached and visit http://epixfab.eu/trainings/upcoming-trainings/spss18/ for further information. \nFor registration\, please click here: https://congrezzo.ugent.be/spss2018 \nGrants for attending the Training School \nThe EUIMWP (CA 16220) COST Action will offer a fixed grant (amount still to be confirmed) to trainees coming from COST countries and Near Neighbour Countries (please check the eligibility conditions in the COST Vademecum\, downloadable from the right menu of the COST website (http://www.cost.eu/participate)). These grants are a contribution to travel\, accommodation and meals expenses of trainees during their attendance to the course\, but they will not necessarily cover the totality of the expenses\, and in any case will cover the registration fee. \nThe grants will be given in a first come first served basis\, after checking that the eligibility criteria are met. \nThe number of grants will be around 20. The Grant Holder reserves the right to modify this number according to budget availability. \nHow to apply for a grant by the EUIMWP COST Action? \nPlease send an email to Pepa Bayarri\, the Grant Holder Manager of the EUIMWP COST Action (ghmanager.upv@gmail.com) expressing your interest in getting a grant\, with the following documents attached:\n• Document of your acceptation in the course\, signed by the organisers.\n• Any kind of proof to show your affiliation to your institution (a letter signed by your supervisor\, a copy of your contract/scholarship\, etc.). \nShould you have any question regarding the COST grants\, please contact Pepa Bayarri.
URL:https://euimwp.eu/event/3rd-epixfab-silicon-photonics-summer-school/
LOCATION:Ghent University (Belgium)\, Sint-Pietersnieuwstraat 25\, Ghent\, B-9000\, Belgium
CATEGORIES:Training Schools
ATTACH;FMTTYPE=image/png:https://euimwp.eu/wp-content/uploads/2018/04/3pixfab.png
ORGANIZER;CN="ePIXfab":MAILTO:info@ePIXfab.eu
END:VEVENT
BEGIN:VEVENT
DTSTART;VALUE=DATE:20180117
DTEND;VALUE=DATE:20180120
DTSTAMP:20260421T043152
CREATED:20180111T120800Z
LAST-MODIFIED:20180111T185507Z
UID:247-1516147200-1516406399@euimwp.eu
SUMMARY:Photonic Integrated Circuit design training
DESCRIPTION:After last year‘s successful edition\, a new Photonic Integrated Circuit design training will be held again in the facilities of VLC Photonics in Valencia (Spain) from Wednesday 17th to Friday 19th of January 2018\, co-located with the 2nd Photonic Integration Week.  \nThis training is oriented to companies or institutions that want to get started in photonic circuit design\, or for those that already having a basic knowledge and want to improve their design skills.  \nMoreover\, the EUIMWP (European Network for High Performance Integrated Microwave Photonics) COST Action (CA 16220) will offer a fixed grant (amount still to be confirmed) to trainees coming from COST countries and Near Neighbour Countries. These grants aim to cover travel\, accommodation and diet expenses of trainees during the attendance to the PIC design course. Please note that the grants will be given in a first come first served basis\, and that the final deadline to register is Friday 12/01/18.  \nAttendees will also have the chance to fabricate the designs they have done or initiated during the training at an upcoming multi-project wafer run in the silicon nitride platform of the CNM foundry.  \nThe agenda of the training will be as follows: \n  \n \nIf you want to join this training\, please contact us before Friday 12/01/18 at info@vlcphotonics.com and you will get the registration form and all training details and logistic information. \nThis training will be the end of an exciting week started on Monday and Tuesday with the 2nd edition of the Photonic Integration Week\, PIW2018\, that will combine industrial presentations\, business to business meetings\, scientific and technical speakers and training activities. The event will be held at the Technical University of Valencia (UPV)\, in Spain. \nThe PIW2018 will start with two Workshops under the framework of the project H2020 PICs4All (Photonic Integration Circuits Accessible to Everyone) and the Spanish Network of Excellence PIC4TB (Photonic Integration Circuits for Telecommunications and Bio Sciences). Industrial keynote speakers will provide the commercial perspective of use of photonic integration technologies at different positions of the supply chain\, from component manufacturers\, system integrators and end users of these technologies. Scientific invited speakers will present their latest achievements and prospects of use of these technologies in research and development\, and caveats for the design aimed at Bio and Telecom applications will be given in 4 master lessons by the members of the PIC4TB network. \nRegistration deadline: January 12th \nDownloads:\n\nPIC training Logistic information 2018-COST\nRegistration form
URL:https://euimwp.eu/event/photonic-integrated-circuit-design-training/
LOCATION:Universidad Politécnica de Valencia – Ciudad Politécnica de la Innovación\, CPI UPV\, Camino de Vera s/n\, Valencia\, Valencia\, 46022\, Spain
CATEGORIES:Training Schools
ATTACH;FMTTYPE=image/jpeg:https://euimwp.eu/wp-content/uploads/2017/11/ciudad-politecnica-de-la-innovacion.jpg
ORGANIZER;CN="VLC Photonics - %C3%8D%C3%B1igo Artundo":MAILTO:info@vlcphotonics.com
END:VEVENT
END:VCALENDAR