BEGIN:VCALENDAR
VERSION:2.0
PRODID:-//EUIMWP Cost Project - ECPv6.4.0.1//NONSGML v1.0//EN
CALSCALE:GREGORIAN
METHOD:PUBLISH
X-WR-CALNAME:EUIMWP Cost Project
X-ORIGINAL-URL:https://euimwp.eu
X-WR-CALDESC:Events for EUIMWP Cost Project
REFRESH-INTERVAL;VALUE=DURATION:PT1H
X-Robots-Tag:noindex
X-PUBLISHED-TTL:PT1H
BEGIN:VTIMEZONE
TZID:UTC
BEGIN:STANDARD
TZOFFSETFROM:+0000
TZOFFSETTO:+0000
TZNAME:UTC
DTSTART:20190101T000000
END:STANDARD
END:VTIMEZONE
BEGIN:VEVENT
DTSTART;VALUE=DATE:20190527
DTEND;VALUE=DATE:20190530
DTSTAMP:20260424T073344
CREATED:20190525T083948Z
LAST-MODIFIED:20190612T073615Z
UID:1394-1558915200-1559174399@euimwp.eu
SUMMARY:3rd CG\, 4th MC and 4th WG meetings in Prague
DESCRIPTION:CTU\, Faculty of Electrical Engineering\, Technicka 2\, Prague 6 (Metro Line A\, Station Dejvicka)\, Czech Republic \nMC meeting  \nThe MC met in Prague for 4th time\, with 22 countries represented. The MC members were informed about the progress of the Action\, in terms of budget expenditure during the last Grant Period (GP2)\, activities planned during GP3\, scientific development\, etc. \n \nWG meeting  \nDuring two consecutive days\, the members of the 6 Working Groups got together in Prague\, where the WG leaders presented their progress. The participants had also the chance to have a break-out session\, where they were divided into smaller groups\, discussing in parallel.
URL:https://euimwp.eu/event/3rd-cg-4th-mc-and-4th-wg-meetings-in-prague/
CATEGORIES:Meetings
END:VEVENT
END:VCALENDAR