BEGIN:VCALENDAR
VERSION:2.0
PRODID:-//EUIMWP Cost Project - ECPv6.4.0.1//NONSGML v1.0//EN
CALSCALE:GREGORIAN
METHOD:PUBLISH
X-WR-CALNAME:EUIMWP Cost Project
X-ORIGINAL-URL:https://euimwp.eu
X-WR-CALDESC:Events for EUIMWP Cost Project
REFRESH-INTERVAL;VALUE=DURATION:PT1H
X-Robots-Tag:noindex
X-PUBLISHED-TTL:PT1H
BEGIN:VTIMEZONE
TZID:UTC
BEGIN:STANDARD
TZOFFSETFROM:+0000
TZOFFSETTO:+0000
TZNAME:UTC
DTSTART:20180101T000000
END:STANDARD
END:VTIMEZONE
BEGIN:VEVENT
DTSTART;VALUE=DATE:20181025
DTEND;VALUE=DATE:20181027
DTSTAMP:20260424T212544
CREATED:20180413T163833Z
LAST-MODIFIED:20180425T135413Z
UID:465-1540425600-1540598399@euimwp.eu
SUMMARY:Joint 3rd MC and 2nd WG2\, WG3 and WG6 meetings in Tolouse: Tolouse (France)
DESCRIPTION:The MC meeting will be held on the afternoon of October 25th\, after the 2018 International Topical Meeting on Microwave Photonics. The WG meetings will take place during the second day.
URL:https://euimwp.eu/event/joint-3rd-mc-and-2nd-wg2-wg3-and-wg6-meetings-in-tolouse-tolouse-france/
CATEGORIES:Meetings
END:VEVENT
END:VCALENDAR