BEGIN:VCALENDAR
VERSION:2.0
PRODID:-//EUIMWP Cost Project - ECPv6.4.0.1//NONSGML v1.0//EN
CALSCALE:GREGORIAN
METHOD:PUBLISH
X-WR-CALNAME:EUIMWP Cost Project
X-ORIGINAL-URL:https://euimwp.eu
X-WR-CALDESC:Events for EUIMWP Cost Project
REFRESH-INTERVAL;VALUE=DURATION:PT1H
X-Robots-Tag:noindex
X-PUBLISHED-TTL:PT1H
BEGIN:VTIMEZONE
TZID:UTC
BEGIN:STANDARD
TZOFFSETFROM:+0000
TZOFFSETTO:+0000
TZNAME:UTC
DTSTART:20190101T000000
END:STANDARD
END:VTIMEZONE
BEGIN:VEVENT
DTSTART;VALUE=DATE:20190902
DTEND;VALUE=DATE:20190904
DTSTAMP:20260424T013918
CREATED:20190525T084138Z
LAST-MODIFIED:20190718T115154Z
UID:1398-1567382400-1567555199@euimwp.eu
SUMMARY:Special session on "Integrated microwave photonics in optical access networks" during FOAN\, Sarajevo (Bosnia and Herzegovina)
DESCRIPTION:Dear EUIMWP participants\, \nWe are happy to invite you to participate in the special session entitled “Integrated Microwave Photonics in Access Networks”\, which will be held during Sep 2nd and 3rd within FOAN 2019\, in Sarajevo (Bosnia and Herzegovina). \nThe session will be chaired by Prof. Bostjan Batagelj\, Prof. Eszter Udvary Gerhátné (both MC members from this Action) and Prof. Adriana Lipovac. \nThe EUIMWP (CA 16220) COST Action will reimburse the travel\, accommodation and meals expenses of 25 eligible presenters\, according to COST rules. The selected eligible participants will receive an informative email from the Grant Holder of this Action by the end of July\, followed by their official invitation. \nPlease find below the CFP file. In order to submit your abstract\, please follow the indications stated here: https://foan.info/call-for-paper. Please bear in mind that\, despite the call for papers deadline has passed\, there is still a chance to give a presentation in this special session. Please contact Prof. Bostjan Batagelj (bostjanb@fe.uni-lj.si) and he’ll give you indications. In order to ease the submission process\, the Chairs of the special session will accept 25-minute oral presentations without paper. The title and abstract of presentation will be enough. \nThe journal (SCI-E) “Fber and Integrated Optics” will invite selected authors to publish a paper in our Special Issue based on the presentation on this special session. Editor in Chef will attend at FOAN so authors of presentation will be able in direct communication with him check how to prepare the paper for the journal. \nYou can download the preliminary program of this special session below. \nKind regards\, \nJosé Capmany (Chair and Grant Holder)\nPepa Bayarri (Grant Holder Manager) \nCFP IMWP FOAN_sept_2019\nPreliminary program 20190718
URL:https://euimwp.eu/event/special-session-on-integrated-microwave-photonics-in-optical-access-networks-during-foan/
CATEGORIES:Meetings
END:VEVENT
BEGIN:VEVENT
DTSTART;VALUE=DATE:20190909
DTEND;VALUE=DATE:20190910
DTSTAMP:20260424T013918
CREATED:20190525T084104Z
LAST-MODIFIED:20190716T112439Z
UID:1396-1567987200-1568073599@euimwp.eu
SUMMARY:2nd PhD and ECI meeting in Thessaloniki (Greece)
DESCRIPTION:Dear EUIMWP participants\, \nAs you may know\, the MC approved to postpone the 2nd PhD and ECI meeting until September 9th\, 2019\, one day before the beginning of the Training School “Emerging technologies for 5G networks”\, organised by Dr. Chris Vagionas and his group in the Aristotle University of Thessaloniki (http://winphos.web.auth.gr/). Both events (2nd PhD and ECI meeting and Training School) will take place\, thus\, in Thessaloniki\, and will be organised by this group. \nThe tentative agenda for the 2nd PhD and ECI meeting is as follows: \nMonday\, Sep 9th\n09:00 – 09:15 Welcome to PhD and ECI participants by ECI Manager\n09:15 – 10:45 PhD and ECI presentations (session I)\n10:45 – 11:15 Coffee break\n11:15 – 12:45 PhD and ECI presentations (session II)\n12:45 – 13:45 Lunch\n13:45 – 15:30 Round table I: challenges and solutions\n15:30 – 16:00 Coffee break\n16:30 – 18:30 Round table II: collaborations \nAs a reminder\, ECI (Early Career Investigator) is defined as an individual who is within a time span of up to 8 years from the date they obtained their PhD/doctorate (full-time equivalent). This call is addressed\, thus\, to PhD students and ECI participants. \nThe Action will cover the travel\, accommodation and meals expenses of the eligible participants\, according to COST rules (please have a look to the COST Vademecum\, downloadable here: https://www.cost.eu/cost-actions/cost-actions-networking-tools/). \nThe participants from IPC (International Partner Countries) are welcomed to apply\, but with no possibility of reimbursement. Sorry about this. \nFor applying\, please send an email to Christos Vagionas (chvagion@csd.auth.gr) and Pepa Bayarri (ghmanager.upv@gmail.com) showing your interest in participating in this meeting by providing the following information:\nName:\nEmail:\nDate of PhD defense (foreseen in case of PhD students):\nPhD st / ECI:\nGender:\nInstitution:\nCountry:\nTitle of Talk: \nWe may need to ask you for further documents later. \nWe will consider applications received before August 20th\, 2019. \nIn the case the number of applications exceeded the number of seats\, priority would be given to PhD students on their second half of their training period. The Grant Holder reserves their right to make variations in the number of seats according to budget availability. \nPlease feel free to disseminate this announcement among the PhD students and ECIs in your groups. \nThank you and kind regards\, \nJosé Capmany (Chair and Grant Holder)\nPepa Bayarri (Grant Holder Manager)\nChris Vagionas (Local Organiser and ECI Manager)
URL:https://euimwp.eu/event/2nd-phd-and-eci-meeting/
LOCATION:Aristotle University of Thessaloniki\, Thessaloniki\, Greece
CATEGORIES:Meetings
END:VEVENT
END:VCALENDAR