BEGIN:VCALENDAR
VERSION:2.0
PRODID:-//EUIMWP Cost Project - ECPv6.4.0.1//NONSGML v1.0//EN
CALSCALE:GREGORIAN
METHOD:PUBLISH
X-ORIGINAL-URL:https://euimwp.eu
X-WR-CALDESC:Events for EUIMWP Cost Project
REFRESH-INTERVAL;VALUE=DURATION:PT1H
X-Robots-Tag:noindex
X-PUBLISHED-TTL:PT1H
BEGIN:VTIMEZONE
TZID:UTC
BEGIN:STANDARD
TZOFFSETFROM:+0000
TZOFFSETTO:+0000
TZNAME:UTC
DTSTART:20190101T000000
END:STANDARD
END:VTIMEZONE
BEGIN:VEVENT
DTSTART;VALUE=DATE:20190131
DTEND;VALUE=DATE:20190202
DTSTAMP:20260424T123445
CREATED:20180413T163923Z
LAST-MODIFIED:20190129T115459Z
UID:467-1548892800-1549065599@euimwp.eu
SUMMARY:3rd WG1\, WG2\, WG3\, WG5 and WG6 meetings in Aveiro: Aveiro (Portugal)
DESCRIPTION:Anf. IT1 \, Instituto de telecomunicações ed 1\, Universidade de Aveiro\,\n3810-193 Aveiro\, Portugal \n \n31st January – 1st February\, 2019\nAgenda: \nThursday\, Jan 31st\n09:00 – 09:15 IT Presentation – Meeting opening\n09:15 – 11:00 WG6 meeting\n11:00 – 11:15 Coffee break\n11:15 – 12:15 WG3 meeting (part I)\n12:15 – 13:15 Lunch (at University of Aveiro)\n13:15 – 14:00 Lab tour @IT\, University of Aveiro\n14:00 – 16:30 WG3 meeting (part II)\n16:30 – 17:00 Coffee break\n17:00 – 18:45 Scientific visit (PCI – Creative Science Park\, Aveiro)\n19:30 – 23:00 Welcome COST dinner (at Aveiro city center) \nFriday\, Feb 1st\n09:00 – 10:30 WG2 meeting\n10:30 – 11:00 Coffee break\n11:00 – 12:30 WG5 meeting\n12:30 – 14:00 Lunch (at University of Aveiro)\n14:00 – 16:00 WG1 meeting\n16:00 – 16:30 Coffee break\n16:30 – 17:00 Conclusions and general discussion \nSpecfic agendas: \nWG1 Agenda: \n• Introduction and summary from Toulouse meeting\n• Overview of current state of specs\n• Discussion on how to proceed further\n• Collaborations with other WGs – input of requirements\n• Conclusion\, AOB \nWG2 Agenda: \n• Introduction and summary from Toulouse meeting\n• Updated specifications of subsystems (SoA)\n• Discussion about the gap between SoA and desired requirements\n• How to provide inputs to other WGs\n• Conclusion\, AOB \nWG3 Agenda: \n• Status Quo Report for WG3 activities\n• STSM in Q1-Q3 and Q4\n• White paper\n• How to incorporate stake holders?\n• Support for WG6 roadmaps \nWG5 Agenda: \n• Introduction and summary from Göteborg meeting\n• Overview of current state of specs\n• Collaborations with other WGs\n• Conclusion & Discussion on how to proceed further \nWG6 Agenda: \n• template roadmap;\n• task division and relation to other WGs;\n• how to share information.
URL:https://euimwp.eu/event/3rd-wg1-wg2-wg3-wg5-and-wg6-meetings-in-aveiro-aveiro-portugal/
LOCATION:Anf. IT1 \, Instituto de telecomunicações ed 1\, Universidade de Aveiro\, 3810-193 Aveiro\, Portugal\, Universidade de Aveiro\, Aveiro\, Portugal
CATEGORIES:Meetings
END:VEVENT
BEGIN:VEVENT
DTSTART;VALUE=DATE:20190131
DTEND;VALUE=DATE:20190202
DTSTAMP:20260424T123445
CREATED:20190110T091308Z
LAST-MODIFIED:20190110T093029Z
UID:694-1548892800-1549065599@euimwp.eu
SUMMARY:1st PhD and ECI meeting in Slovenia
DESCRIPTION:Dear EUIMWP participants\, \nHi\, we are pleased to announce you that Prof. Boštjan Batagelj and his team have offered to host the 1st EUIMWP PhD and ECI meeting in Ljubljana (Slovenia). The meeting will be held from January 31st to February 1st\, 2019\, at the Faculty of Electrical Engineering\, Tržaška 25\, Ljubljana\, Slovenia \nThis meeting aims to provide an opportunity for networking between ECIs and PhD students. We believe that at this early stage of their career the interaction can be very useful in terms of scientific knowledge\, exchange of ideas and potential collaborations. To be more concrete: \na) By allowing the ECIs to give short open-type presentations (i.e in form of discussion papers) they can be aware of “who is doing what” in integrated Microwave Photonics\, what are the problems and challenges their peers are facing and more importantly if they can provide help\, comment or feedback on how to tackle them in light of their experience. This could lead to personal collaborations that can be later formalized by means of STSMs. \nb) Moreover\, ECIs might find that they are trying to solve similar problems with different approaches so a benefit can be obtained by teaming up. Equally important\, new challenges can be identified were two or more ECIs can team to work together in order to find solutions. \nc) The meeting can be very useful in terms of exchanging experience on technical approaches\, interactions with foundries\, software use\, design approaches…  Interactions can also cover issues related to measurements and characterization. Again\, in this case the interaction can provide a more detailed information of common problems that ECIs face when carrying out this work. For example an ECI wishing to perform a chip design/fabrication/testing can get first hand feedback and advice from others who have already completed training and/or a fabrication/test run. \nThe tentative agenda is as follows: \nThursday 31st January\n12:45 – 13:00 Welcome to PhD and ECI participants by Local Organiser\n13:00 – 15:30 PhD and ECI presentations (session I)\n15:30 – 16:00 Coffee break\n16:00 -18:30 PhD and ECI presentations (session II) \nFriday 1st February\n09:00 – 12:00 Round table: challenges and search for solutions \nThe Action will cover the travel\, accommodation and meals expenses of the participants\, according to COST rules (please have a look to the COST Vademecum\, downloadable here: https://www.cost.eu/cost-actions/cost-actions-networking-tools/\, pages 23-27). Please note that participants from International Partner Countries\, IPC (in the case of our Action: USA\, Australia\, China\, Canada\, Brazil\, Japan\, Iran and Colombia) are welcome to participate in this meeting\, but unfortunately the Action could not reimburse their expenses\, since they are not eligible… We are very sorry about this. \nFor applying\, please send an email to Christos Vagionas (chvagion@csd.auth.gr) and Pepa Bayarri (ghmanager.upv@gmail.com) showing your interest in participating in this meeting. Please state clearly the following information: \n1) First name and last name\n2) Institution and country\n3) Date of PhD defense (foreseen in the case of PhD students\, month and year)\n4) Gender\n5) Tentative title of the presentation (please send also your presentation to Prof. Batagelj (bostjan.batagelj@fe.uni-lj.si) as soon as possible\, and always before January 18th\, 2019. \nWe may need to ask you for further documents later. \nWe will consider applications received before January 18th\, 2019. \nIn the case the number of applications exceeded the number of seats\, priority would be given to PhD students on their second half of their training period. The Grant Holder reserves their right to make variations in the number of seats according to budget availability. \nPlease feel free to disseminate this announcement among the PhD students and ECIs in your groups. \nThank you and kind regards\, \nPepa Bayarri (Grant Holder Manager)\nJosé Capmany (Chair and Grant Holder)\nBostjan Batagelj (Local Organiser)\nChristos Vagionas (ECI Manager)
URL:https://euimwp.eu/event/1st-phd-and-eci-meeting-in-slovenia/
LOCATION:Ljubljana (Slovenia)\, Faculty of Electrical Engineering\, Ljubljana\, Slovenia
CATEGORIES:Meetings
ATTACH;FMTTYPE=image/jpeg:https://euimwp.eu/wp-content/uploads/2019/01/Univerza-v-Ljubljani.jpg
END:VEVENT
END:VCALENDAR