BEGIN:VCALENDAR
VERSION:2.0
PRODID:-//EUIMWP Cost Project - ECPv6.4.0.1//NONSGML v1.0//EN
CALSCALE:GREGORIAN
METHOD:PUBLISH
X-WR-CALNAME:EUIMWP Cost Project
X-ORIGINAL-URL:https://euimwp.eu
X-WR-CALDESC:Events for EUIMWP Cost Project
REFRESH-INTERVAL;VALUE=DURATION:PT1H
X-Robots-Tag:noindex
X-PUBLISHED-TTL:PT1H
BEGIN:VTIMEZONE
TZID:UTC
BEGIN:STANDARD
TZOFFSETFROM:+0000
TZOFFSETTO:+0000
TZNAME:UTC
DTSTART:20180101T000000
END:STANDARD
END:VTIMEZONE
BEGIN:VEVENT
DTSTART;VALUE=DATE:20180226
DTEND;VALUE=DATE:20180301
DTSTAMP:20260425T021300
CREATED:20180111T121815Z
LAST-MODIFIED:20180228T202542Z
UID:256-1519603200-1519862399@euimwp.eu
SUMMARY:Joint meetings at Brussels
DESCRIPTION:Core Group\, Working Groups (1-6) and Management Committee meetings \nProgram:\n\nMonday\, Feb 26th\, Core Group Meeting: 14:30 – 17:00\nTuesday\, Feb 27th\, Working Group Meetings: 09:00 – 17:00\nWednesday\, Feb 28th\, Management Committee Meeting: 09:00 – 12:00\n\nSome images of the event:
URL:https://euimwp.eu/event/joint-meetings-at-brussels/
LOCATION:COST Association Brussels\, Avenue Louise 149\, Brussels\, 1050\, Belgium
CATEGORIES:Meetings
ATTACH;FMTTYPE=image/jpeg:https://euimwp.eu/wp-content/uploads/2018/01/destinations-belgium_brussels_atomium_1.jpg
END:VEVENT
END:VCALENDAR